BEGIN:VCALENDAR
VERSION:2.0
PRODID:-//Martinas Tanzwelt - ECPv4.7.3//NONSGML v1.0//EN
CALSCALE:GREGORIAN
METHOD:PUBLISH
X-WR-CALNAME:Martinas Tanzwelt
X-ORIGINAL-URL:https://martinas-tanzwelt.de
X-WR-CALDESC:Veranstaltungen für Martinas Tanzwelt
BEGIN:VEVENT
DTSTART;TZID=Europe/Berlin:20170916T110000
DTEND;TZID=Europe/Berlin:20170916T140000
DTSTAMP:20260422T233305
CREATED:20170828T075439Z
LAST-MODIFIED:20170828T075439Z
UID:1183-1505559600-1505570400@martinas-tanzwelt.de
SUMMARY:Aloha Day
DESCRIPTION: \n
URL:https://martinas-tanzwelt.de/event/aloha-day/
LOCATION:Tanzwelt\, Stixwörthstr. 8\, Hagenbach\, Rheinland-Pfalz\, 76767\, Deutschland
ORGANIZER;CN="Martinas%20Tanzwelt":MAILTO:martina@martinas-tanzwelt.de
END:VEVENT
END:VCALENDAR