BEGIN:VCALENDAR
VERSION:2.0
PRODID:-//Martinas Tanzwelt - ECPv4.7.3//NONSGML v1.0//EN
CALSCALE:GREGORIAN
METHOD:PUBLISH
X-WR-CALNAME:Martinas Tanzwelt
X-ORIGINAL-URL:https://martinas-tanzwelt.de
X-WR-CALDESC:Veranstaltungen für Martinas Tanzwelt
BEGIN:VEVENT
DTSTART;TZID=Europe/Berlin:20240812T000000
DTEND;TZID=Europe/Berlin:20240815T000000
DTSTAMP:20260422T200046
CREATED:20240225T145629Z
LAST-MODIFIED:20240410T100558Z
UID:2376-1723420800-1723680000@martinas-tanzwelt.de
SUMMARY:ALOHA Woche an der Ostsee vom 12. - 15.8.
DESCRIPTION: \nAloha Woche in Waabs an der Ostsee \nvon Montag 12.8. bis Donnerstag 15.8. tauchen wir gemeinsam in den Spirit Hawaiis ein. \nLerne die Bedeutung von Aloha kennen\, fühle die sanften fließenden Bewegungen des hawaianischen Hula und komme wieder ganz bei dir an. \nPetra Schmidt\, HUNA Lehrerin\, ausgebildet von Regina Rützel\, Kursleiterin für Autogenes Training der neuen Zeit\, Heilentspannung und Meditation\nund\nMartina Kießling\, HUNA Lehrerin\, ausgebildet von Jeanne Ruland\, HULA Trainerin\, Tanz- und Yogalehrerin \nbringen dir ALOHA in all seinen Facetten näher.\nEs erwarten dich Tanz\, Meditation\, Körperübungen\, Heilkreise\, Natur\, die wundervolle Ostsee\, Strand\, Erholung. \nAloha Woche: 25 Stunden Unterricht\, Frühbucher Euro 432\,00\, ab 1.7. Euro 494\,00 \nAnmeldung und Info unter: info@martinas-tanzwelt.de oder 0172 379 1984\, Strandweg 9 in 24369 Waabs \nWir freuen uns auf dich\nPetra & Martina \n
URL:https://martinas-tanzwelt.de/event/aloha-woche-an-der-ostsee-vom-12-15-8/
END:VEVENT
END:VCALENDAR