BEGIN:VCALENDAR
VERSION:2.0
PRODID:-//Martinas Tanzwelt - ECPv4.7.3//NONSGML v1.0//EN
CALSCALE:GREGORIAN
METHOD:PUBLISH
X-WR-CALNAME:Martinas Tanzwelt
X-ORIGINAL-URL:https://martinas-tanzwelt.de
X-WR-CALDESC:Veranstaltungen für Martinas Tanzwelt
BEGIN:VEVENT
DTSTART;TZID=Europe/Berlin:20260810T103000
DTEND;TZID=Europe/Berlin:20260814T183000
DTSTAMP:20260422T161841
CREATED:20251008T130916Z
LAST-MODIFIED:20251117T114147Z
UID:2493-1786357800-1786732200@martinas-tanzwelt.de
SUMMARY:ALOHA Woche 10.-14. August 2026
DESCRIPTION:  \n \n
URL:https://martinas-tanzwelt.de/event/aloha-woche-vom-10-14-august-2026/
END:VEVENT
END:VCALENDAR