BEGIN:VCALENDAR
VERSION:2.0
PRODID:-//Martinas Tanzwelt - ECPv4.7.3//NONSGML v1.0//EN
CALSCALE:GREGORIAN
METHOD:PUBLISH
X-WR-CALNAME:Martinas Tanzwelt
X-ORIGINAL-URL:https://martinas-tanzwelt.de
X-WR-CALDESC:Veranstaltungen für Martinas Tanzwelt
BEGIN:VEVENT
DTSTART;TZID=Europe/Berlin:20191001T183000
DTEND;TZID=Europe/Berlin:20191001T213000
DTSTAMP:20260422T225146
CREATED:20190113T105549Z
LAST-MODIFIED:20190923T111843Z
UID:1786-1569954600-1569965400@martinas-tanzwelt.de
SUMMARY:Energieabend
DESCRIPTION: \n
URL:https://martinas-tanzwelt.de/event/energieabend/
END:VEVENT
END:VCALENDAR