BEGIN:VCALENDAR
VERSION:2.0
PRODID:-//Martinas Tanzwelt - ECPv4.7.3//NONSGML v1.0//EN
CALSCALE:GREGORIAN
METHOD:PUBLISH
X-WR-CALNAME:Martinas Tanzwelt
X-ORIGINAL-URL:https://martinas-tanzwelt.de
X-WR-CALDESC:Veranstaltungen für Martinas Tanzwelt
BEGIN:VEVENT
DTSTART;TZID=Europe/Berlin:20200501T090000
DTEND;TZID=Europe/Berlin:20200504T120000
DTSTAMP:20260422T215451
CREATED:20190113T105039Z
LAST-MODIFIED:20200602T115337Z
UID:1779-1588323600-1588593600@martinas-tanzwelt.de
SUMMARY:Ferienworkshop für Kids
DESCRIPTION:Ihr könnt mit uns tanzend in die Ferien starten \n
URL:https://martinas-tanzwelt.de/event/ferienworkshop-fuer-kids/
END:VEVENT
END:VCALENDAR