BEGIN:VCALENDAR
VERSION:2.0
PRODID:-//Martinas Tanzwelt - ECPv4.7.3//NONSGML v1.0//EN
CALSCALE:GREGORIAN
METHOD:PUBLISH
X-WR-CALNAME:Martinas Tanzwelt
X-ORIGINAL-URL:https://martinas-tanzwelt.de
X-WR-CALDESC:Veranstaltungen für Martinas Tanzwelt
BEGIN:VEVENT
DTSTART;TZID=Europe/Berlin:20200125T200000
DTEND;TZID=Europe/Berlin:20200125T223000
DTSTAMP:20260422T215343
CREATED:20170618T223325Z
LAST-MODIFIED:20191209T131915Z
UID:1164-1579982400-1579991400@martinas-tanzwelt.de
SUMMARY:Irischer Abend - Tanzparty
DESCRIPTION: \n
URL:https://martinas-tanzwelt.de/event/irischer-abend-tanzparty/
LOCATION:Tanzwelt\, Stixwörthstr. 8\, Hagenbach\, Rheinland-Pfalz\, 76767\, Deutschland
END:VEVENT
END:VCALENDAR