BEGIN:VCALENDAR
VERSION:2.0
PRODID:-//Martinas Tanzwelt - ECPv4.7.3//NONSGML v1.0//EN
CALSCALE:GREGORIAN
METHOD:PUBLISH
X-WR-CALNAME:Martinas Tanzwelt
X-ORIGINAL-URL:https://martinas-tanzwelt.de
X-WR-CALDESC:Veranstaltungen für Martinas Tanzwelt
BEGIN:VEVENT
DTSTART;TZID=Europe/Berlin:20250828T153000
DTEND;TZID=Europe/Berlin:20250828T170000
DTSTAMP:20260422T181808
CREATED:20250731T101727Z
LAST-MODIFIED:20250731T101727Z
UID:2466-1756395000-1756400400@martinas-tanzwelt.de
SUMMARY:Klangerlebnis für Kids
DESCRIPTION:Lerne Klanginstrumente kennen – fühlen – mit allen Sinnen erleben und komme selbst in deine eigene Schwingung \n
URL:https://martinas-tanzwelt.de/event/klangerlebnis-fuer-kids/
END:VEVENT
END:VCALENDAR