BEGIN:VCALENDAR
VERSION:2.0
PRODID:-//Martinas Tanzwelt - ECPv4.7.3//NONSGML v1.0//EN
CALSCALE:GREGORIAN
METHOD:PUBLISH
X-WR-CALNAME:Martinas Tanzwelt
X-ORIGINAL-URL:https://martinas-tanzwelt.de
X-WR-CALDESC:Veranstaltungen für Martinas Tanzwelt
BEGIN:VEVENT
DTSTART;TZID=Europe/Berlin:20180423T183000
DTEND;TZID=Europe/Berlin:20180521T213000
DTSTAMP:20260422T222103
CREATED:20180116T080058Z
LAST-MODIFIED:20181230T231354Z
UID:1363-1524508200-1526938200@martinas-tanzwelt.de
SUMMARY:Energieabend
DESCRIPTION:Wie wäre es\, wenn du mit deinem Körper zusammen arbeitest und nicht gegen ihn?\nKörperprozesse unterstützen den Körper\, um wieder in seine ursprüngliche Funktion und Leichtigkeit zu kommen. \nmit Voranmeldung \n
URL:https://martinas-tanzwelt.de/event/koerperprozesse-access-body-processes-3/
LOCATION:Tanzwelt\, Stixwörthstr. 8\, Hagenbach\, Rheinland-Pfalz\, 76767\, Deutschland
END:VEVENT
END:VCALENDAR