BEGIN:VCALENDAR
VERSION:2.0
PRODID:-//Martinas Tanzwelt - ECPv4.7.3//NONSGML v1.0//EN
CALSCALE:GREGORIAN
METHOD:PUBLISH
X-WR-CALNAME:Martinas Tanzwelt
X-ORIGINAL-URL:https://martinas-tanzwelt.de
X-WR-CALDESC:Veranstaltungen für Martinas Tanzwelt
BEGIN:VEVENT
DTSTART;TZID=Europe/Berlin:20170103T190000
DTEND;TZID=Europe/Berlin:20170103T210000
DTSTAMP:20260422T232516
CREATED:20161101T144107Z
LAST-MODIFIED:20161104T064413Z
UID:690-1483470000-1483477200@martinas-tanzwelt.de
SUMMARY:Muster-Show
DESCRIPTION:Beschreibung einer Show mit Bildern etc. \n
URL:https://martinas-tanzwelt.de/event/muster-show/
LOCATION:Tanzwelt\, Stixwörthstr. 8\, Hagenbach\, Rheinland-Pfalz\, 76767\, Deutschland
CATEGORIES:Shows
ATTACH;FMTTYPE=image/jpeg:https://martinas-tanzwelt.de/wp-content/uploads/2016/10/videoclip1.jpg
ORGANIZER;CN="Martinas%20Tanzwelt":MAILTO:martina@martinas-tanzwelt.de
END:VEVENT
END:VCALENDAR