BEGIN:VCALENDAR
VERSION:2.0
PRODID:-//Martinas Tanzwelt - ECPv4.7.3//NONSGML v1.0//EN
CALSCALE:GREGORIAN
METHOD:PUBLISH
X-WR-CALNAME:Martinas Tanzwelt
X-ORIGINAL-URL:https://martinas-tanzwelt.de
X-WR-CALDESC:Veranstaltungen für Martinas Tanzwelt
BEGIN:VEVENT
DTSTART;TZID=Europe/Berlin:20210406T160000
DTEND;TZID=Europe/Berlin:20210501T233000
DTSTAMP:20260422T215250
CREATED:20210405T190944Z
LAST-MODIFIED:20210414T212400Z
UID:2051-1617724800-1619911800@martinas-tanzwelt.de
SUMMARY:Online Stundenplan April
DESCRIPTION: \n
URL:https://martinas-tanzwelt.de/event/online-stundenplan-april/
END:VEVENT
END:VCALENDAR