BEGIN:VCALENDAR
VERSION:2.0
PRODID:-//Martinas Tanzwelt - ECPv4.7.3//NONSGML v1.0//EN
CALSCALE:GREGORIAN
METHOD:PUBLISH
X-WR-CALNAME:Martinas Tanzwelt
X-ORIGINAL-URL:https://martinas-tanzwelt.de
X-WR-CALDESC:Veranstaltungen für Martinas Tanzwelt
BEGIN:VEVENT
DTSTART;TZID=Europe/Berlin:20250819T153000
DTEND;TZID=Europe/Berlin:20250819T170000
DTSTAMP:20260422T180953
CREATED:20250731T101114Z
LAST-MODIFIED:20250815T110515Z
UID:2460-1755617400-1755622800@martinas-tanzwelt.de
SUMMARY:Prinzessinnenparty für Kids
DESCRIPTION:Kommt mit ins Tanzwelt-Schloß\, verkleidet euch als Prinzessin\, Prinz\, Hofstaat. Für Klein und Groß. \n \n
URL:https://martinas-tanzwelt.de/event/prinzessinnenparty-fuer-kids/
END:VEVENT
END:VCALENDAR