BEGIN:VCALENDAR
VERSION:2.0
PRODID:-//Martinas Tanzwelt - ECPv4.7.3//NONSGML v1.0//EN
CALSCALE:GREGORIAN
METHOD:PUBLISH
X-WR-CALNAME:Martinas Tanzwelt
X-ORIGINAL-URL:https://martinas-tanzwelt.de
X-WR-CALDESC:Veranstaltungen für Martinas Tanzwelt
BEGIN:VEVENT
DTSTART;TZID=Europe/Berlin:20171209T200000
DTEND;TZID=Europe/Berlin:20171209T230000
DTSTAMP:20260422T215018
CREATED:20171111T134019Z
LAST-MODIFIED:20171111T134019Z
UID:1245-1512849600-1512860400@martinas-tanzwelt.de
SUMMARY:Punschparty
DESCRIPTION: \n
URL:https://martinas-tanzwelt.de/event/punschparty/
LOCATION:Tanzwelt\, Stixwörthstr. 8\, Hagenbach\, Rheinland-Pfalz\, 76767\, Deutschland
END:VEVENT
END:VCALENDAR