BEGIN:VCALENDAR
VERSION:2.0
PRODID:-//Martinas Tanzwelt - ECPv4.7.3//NONSGML v1.0//EN
CALSCALE:GREGORIAN
METHOD:PUBLISH
X-WR-CALNAME:Martinas Tanzwelt
X-ORIGINAL-URL:https://martinas-tanzwelt.de
X-WR-CALDESC:Veranstaltungen für Martinas Tanzwelt
BEGIN:VEVENT
DTSTART;TZID=Europe/Berlin:20250805T153000
DTEND;TZID=Europe/Berlin:20250805T170000
DTSTAMP:20260422T180636
CREATED:20250731T100849Z
LAST-MODIFIED:20250731T100849Z
UID:2457-1754407800-1754413200@martinas-tanzwelt.de
SUMMARY:Sommertanzparty für Kids
DESCRIPTION:Lasst und zusammen den Sommer feiern\, tanzen\, lachen….melde dich unter info@martinas-tanzwelt.de an\n(mindestsens 4 \, maximal 15 Kids) \n
URL:https://martinas-tanzwelt.de/event/sommertanzparty-fuer-kids/
END:VEVENT
END:VCALENDAR