BEGIN:VCALENDAR
VERSION:2.0
PRODID:-//Martinas Tanzwelt - ECPv4.7.3//NONSGML v1.0//EN
CALSCALE:GREGORIAN
METHOD:PUBLISH
X-WR-CALNAME:Martinas Tanzwelt
X-ORIGINAL-URL:https://martinas-tanzwelt.de
X-WR-CALDESC:Veranstaltungen für Martinas Tanzwelt
BEGIN:VEVENT
DTSTART;TZID=Europe/Berlin:20190430T200000
DTEND;TZID=Europe/Berlin:20190501T003000
DTSTAMP:20260422T215321
CREATED:20190113T104758Z
LAST-MODIFIED:20190113T104758Z
UID:1776-1556654400-1556670600@martinas-tanzwelt.de
SUMMARY:Tanz in den Mai
DESCRIPTION:Im festlichen Rahmen tanzen wir mit Freude in den Mai. Jeder bringt „Häppchen“ oder „Fingerfood“ mit und die Tanzwelt sorgt für Mai-Überraschungen. \n
URL:https://martinas-tanzwelt.de/event/tanz-in-den-mai/
END:VEVENT
END:VCALENDAR