BEGIN:VCALENDAR
VERSION:2.0
PRODID:-//Martinas Tanzwelt - ECPv4.7.3//NONSGML v1.0//EN
CALSCALE:GREGORIAN
METHOD:PUBLISH
X-WR-CALNAME:Martinas Tanzwelt
X-ORIGINAL-URL:https://martinas-tanzwelt.de
X-WR-CALDESC:Veranstaltungen für Martinas Tanzwelt
BEGIN:VEVENT
DTSTART;TZID=Europe/Berlin:20230317T190000
DTEND;TZID=Europe/Berlin:20230317T213000
DTSTAMP:20260422T201104
CREATED:20221227T092650Z
LAST-MODIFIED:20221227T092650Z
UID:2260-1679079600-1679088600@martinas-tanzwelt.de
SUMMARY:Tanzparty
DESCRIPTION:Tanezn\, Üben\, Freunde treffen … mit Rumba Figur \nEintritt 15\,00 Euro pro Paar \n
URL:https://martinas-tanzwelt.de/event/tanzparty/
END:VEVENT
END:VCALENDAR