BEGIN:VCALENDAR
VERSION:2.0
PRODID:-//Martinas Tanzwelt - ECPv4.7.3//NONSGML v1.0//EN
CALSCALE:GREGORIAN
METHOD:PUBLISH
X-WR-CALNAME:Martinas Tanzwelt
X-ORIGINAL-URL:https://martinas-tanzwelt.de
X-WR-CALDESC:Veranstaltungen für Martinas Tanzwelt
BEGIN:VEVENT
DTSTART;TZID=Europe/Berlin:20250826T153000
DTEND;TZID=Europe/Berlin:20250826T170000
DTSTAMP:20260422T192233
CREATED:20250731T101525Z
LAST-MODIFIED:20250731T101525Z
UID:2464-1756222200-1756227600@martinas-tanzwelt.de
SUMMARY:Teenie Dance
DESCRIPTION:Wir tanzen zu cooler Musik\, lernen eine Tanzchoreographie und haben eine Menge Spaß miteinander. \n \n
URL:https://martinas-tanzwelt.de/event/teenie-dance/
END:VEVENT
END:VCALENDAR