BEGIN:VCALENDAR
VERSION:2.0
PRODID:-//Martinas Tanzwelt - ECPv4.7.3//NONSGML v1.0//EN
CALSCALE:GREGORIAN
METHOD:PUBLISH
X-WR-CALNAME:Martinas Tanzwelt
X-ORIGINAL-URL:https://martinas-tanzwelt.de
X-WR-CALDESC:Veranstaltungen für Martinas Tanzwelt
BEGIN:VEVENT
DTSTART;TZID=Europe/Berlin:20251224T090000
DTEND;TZID=Europe/Berlin:20251224T103000
DTSTAMP:20260422T175708
CREATED:20251215T174733Z
LAST-MODIFIED:20251215T174733Z
UID:2528-1766566800-1766572200@martinas-tanzwelt.de
SUMMARY:Weihnachts - YOGA
DESCRIPTION: \n
URL:https://martinas-tanzwelt.de/event/weihnachts-yoga/
END:VEVENT
END:VCALENDAR