BEGIN:VCALENDAR
VERSION:2.0
PRODID:-//Martinas Tanzwelt - ECPv4.7.3//NONSGML v1.0//EN
CALSCALE:GREGORIAN
METHOD:PUBLISH
X-WR-CALNAME:Martinas Tanzwelt
X-ORIGINAL-URL:https://martinas-tanzwelt.de
X-WR-CALDESC:Veranstaltungen für Martinas Tanzwelt
BEGIN:VEVENT
DTSTART;TZID=Europe/Berlin:20250323T090000
DTEND;TZID=Europe/Berlin:20250323T103000
DTSTAMP:20260422T180227
CREATED:20250124T153110Z
LAST-MODIFIED:20250227T133651Z
UID:2407-1742720400-1742725800@martinas-tanzwelt.de
SUMMARY:YOGA SonntagsFlow
DESCRIPTION: \n
URL:https://martinas-tanzwelt.de/event/yoga-sonntagsflow/
END:VEVENT
END:VCALENDAR