BEGIN:VCALENDAR
VERSION:2.0
PRODID:-//Martinas Tanzwelt - ECPv4.7.3//NONSGML v1.0//EN
CALSCALE:GREGORIAN
METHOD:PUBLISH
X-WR-CALNAME:Martinas Tanzwelt
X-ORIGINAL-URL:https://martinas-tanzwelt.de
X-WR-CALDESC:Veranstaltungen für Martinas Tanzwelt
BEGIN:VEVENT
DTSTART;TZID=Europe/Berlin:20250623T080000
DTEND;TZID=Europe/Berlin:20250627T183000
DTSTAMP:20260422T181808
CREATED:20250124T154714Z
LAST-MODIFIED:20250124T154714Z
UID:2418-1750665600-1751049000@martinas-tanzwelt.de
SUMMARY:YOGA Woche an der Ostsee
DESCRIPTION: \n
URL:https://martinas-tanzwelt.de/event/yoga-woche-an-der-ostsee/
END:VEVENT
END:VCALENDAR